BEGIN:VCALENDAR
VERSION:2.0
PRODID:researchseminars.org
CALSCALE:GREGORIAN
X-WR-CALNAME:researchseminars.org
BEGIN:VEVENT
SUMMARY:Johannes Ebert (University of Münster)
DTSTART:20200512T140000Z
DTEND:20200512T150000Z
DTSTAMP:20260422T151802Z
UID:GoeTop/1
DESCRIPTION:Title: <a href="https://researchseminars.org/talk/GoeTop/1/">O
 n the homotopy type of the space of metrics of positive scalar curvature</
 a>\nby Johannes Ebert (University of Münster) as part of Göttingen topol
 ogy and geometry seminar\n\nAbstract: TBA\n
LOCATION:https://researchseminars.org/talk/GoeTop/1/
END:VEVENT
END:VCALENDAR
