BEGIN:VCALENDAR
VERSION:2.0
PRODID:researchseminars.org
CALSCALE:GREGORIAN
X-WR-CALNAME:researchseminars.org
BEGIN:VEVENT
SUMMARY:Jérémy Toulisse (Université de Nice-Sophia Antipolis)
DTSTART:20201201T140000Z
DTEND:20201201T150000Z
DTSTAMP:20260423T035410Z
UID:Geometry/16
DESCRIPTION:Title: <a href="https://researchseminars.org/talk/Geometry/16/
 ">Plateau problem in the pseudo-hyperbolic space</a>\nby Jérémy Toulisse
  (Université de Nice-Sophia Antipolis) as part of Pangolin seminar\n\n\nA
 bstract\nThe pseudo-hyperbolic space H^{2\,n} is the pseudo-Riemannian ana
 logue of the classical hyperbolic space. In this talk\, I will explain how
  to solve an asymptotic Plateau problem in this space: given a topological
  circle in the boundary at infinity of H^{2\,n}\, we construct a unique co
 mplete maximal surface bounded by this circle. This construction relies on
  Gromov’s theory of pseudo-holomorphic curves. This is a joint work with
  François Labourie and Mike Wolf.\n
LOCATION:https://researchseminars.org/talk/Geometry/16/
END:VEVENT
END:VCALENDAR
