BEGIN:VCALENDAR
VERSION:2.0
PRODID:researchseminars.org
CALSCALE:GREGORIAN
X-WR-CALNAME:researchseminars.org
BEGIN:VEVENT
SUMMARY:Olivier Glorieux
DTSTART:20200507T140000Z
DTEND:20200507T160000Z
DTSTAMP:20260423T035912Z
UID:GeomDyn/7
DESCRIPTION:Title: <a href="https://researchseminars.org/talk/GeomDyn/7/">
 Random geometric process on Riemannian manifolds</a>\nby Olivier Glorieux 
 as part of Séminaire de géométrie et dynamique\n\nAbstract: TBA\n
LOCATION:https://researchseminars.org/talk/GeomDyn/7/
END:VEVENT
END:VCALENDAR
