BEGIN:VCALENDAR
VERSION:2.0
PRODID:researchseminars.org
CALSCALE:GREGORIAN
X-WR-CALNAME:researchseminars.org
BEGIN:VEVENT
SUMMARY:Léo Benard
DTSTART:20200423T140000Z
DTEND:20200423T160000Z
DTSTAMP:20260423T035907Z
UID:GeomDyn/5
DESCRIPTION:Title: <a href="https://researchseminars.org/talk/GeomDyn/5/">
 Asymptotic of twisted Alexander polynomials and hyperbolic volume</a>\nby 
 Léo Benard as part of Séminaire de géométrie et dynamique\n\nAbstract:
  TBA\n
LOCATION:https://researchseminars.org/talk/GeomDyn/5/
END:VEVENT
END:VCALENDAR
