BEGIN:VCALENDAR
VERSION:2.0
PRODID:researchseminars.org
CALSCALE:GREGORIAN
X-WR-CALNAME:researchseminars.org
BEGIN:VEVENT
SUMMARY:Nicolas Tholozan
DTSTART:20200604T140000Z
DTEND:20200604T160000Z
DTSTAMP:20260423T021426Z
UID:GeomDyn/17
DESCRIPTION:Title: <a href="https://researchseminars.org/talk/GeomDyn/17/"
 >Quotients compacts d'espaces pseudo-hyperboliques</a>\nby Nicolas Tholoza
 n as part of Séminaire de géométrie et dynamique\n\nAbstract: TBA\n
LOCATION:https://researchseminars.org/talk/GeomDyn/17/
END:VEVENT
END:VCALENDAR
