BEGIN:VCALENDAR
VERSION:2.0
PRODID:researchseminars.org
CALSCALE:GREGORIAN
X-WR-CALNAME:researchseminars.org
BEGIN:VEVENT
SUMMARY:Jérémy Toulisse (Université de Nice)
DTSTART:20200511T130000Z
DTEND:20200511T150000Z
DTSTAMP:20260423T021426Z
UID:GeomDyn/10
DESCRIPTION:Title: <a href="https://researchseminars.org/talk/GeomDyn/10/"
 >Plateau’s problem in pseudo-hyperbolic spaces</a>\nby Jérémy Toulisse
  (Université de Nice) as part of Séminaire de géométrie et dynamique\n
 \nAbstract: TBA\n
LOCATION:https://researchseminars.org/talk/GeomDyn/10/
END:VEVENT
END:VCALENDAR
