BEGIN:VCALENDAR
VERSION:2.0
PRODID:researchseminars.org
CALSCALE:GREGORIAN
X-WR-CALNAME:researchseminars.org
BEGIN:VEVENT
SUMMARY:Michael Albanese (Université du Québec à Montréal)
DTSTART:20220614T150000Z
DTEND:20220614T160000Z
DTSTAMP:20260423T022623Z
UID:Geolis/89
DESCRIPTION:Title: <a href="https://researchseminars.org/talk/Geolis/89/">
 The Yamabe Invariant of Complex Surfaces</a>\nby Michael Albanese (Univers
 ité du Québec à Montréal) as part of Geometria em Lisboa (IST)\n\n\nAb
 stract\nThe Yamabe invariant is a real-valued diffeomorphism invariant com
 ing from Riemannian geometry. Using Seiberg-Witten theory\, LeBrun showed 
 that the sign of the Yamabe invariant of a Kähler surface is determined b
 y its Kodaira dimension. We consider the extent to which this remains true
  when the Kähler hypothesis is removed. This is joint work with Claude Le
 Brun.\n
LOCATION:https://researchseminars.org/talk/Geolis/89/
END:VEVENT
END:VCALENDAR
