BEGIN:VCALENDAR
VERSION:2.0
PRODID:researchseminars.org
CALSCALE:GREGORIAN
X-WR-CALNAME:researchseminars.org
BEGIN:VEVENT
SUMMARY:Tristan C. Collins (MIT)
DTSTART:20201020T160000Z
DTEND:20201020T170000Z
DTSTAMP:20260423T022721Z
UID:Geolis/22
DESCRIPTION:Title: <a href="https://researchseminars.org/talk/Geolis/22/">
 SYZ mirror symmetry for del Pezzo surfaces and rational elliptic surfaces<
 /a>\nby Tristan C. Collins (MIT) as part of Geometria em Lisboa (IST)\n\n\
 nAbstract\nI will discuss some aspects of SYZ mirror symmetry for pairs $(
 X\,D)$ where $X$ is a del Pezzo surface or a rational elliptic surface and
  $D$ is an anti-canonical divisor.  In particular I will explain the exis
 tence of special Lagrangian fibrations\, mirror symmetry for (suitably int
 erpreted) Hodge numbers and\, if time permits\, I will describe a proof of
  SYZ mirror symmetry conjecture for del Pezzo surfaces.  \n\nThis is join
 t work with Adam Jacob and Yu-Shen Lin.\n
LOCATION:https://researchseminars.org/talk/Geolis/22/
END:VEVENT
END:VCALENDAR
