BEGIN:VCALENDAR
VERSION:2.0
PRODID:researchseminars.org
CALSCALE:GREGORIAN
X-WR-CALNAME:researchseminars.org
BEGIN:VEVENT
SUMMARY:Maarten Mol (Max Planck Institute for Mathematics)
DTSTART:20231121T160000Z
DTEND:20231121T170000Z
DTSTAMP:20260423T022723Z
UID:Geolis/132
DESCRIPTION:Title: <a href="https://researchseminars.org/talk/Geolis/132/"
 >Kähler manifolds with a high degree of torus bundle symmetry</a>\nby Maa
 rten Mol (Max Planck Institute for Mathematics) as part of Geometria em Li
 sboa (IST)\n\n\nAbstract\nIn this talk I will discuss a natural generaliza
 tion of symplectic toric manifolds\, for which the symmetry is given by a 
 (symplectic) torus bundle\, rather than a torus. The aim will be to explai
 n how the Abreu-Guillemin theory of toric Kähler metrics extends to this 
 setting. This is based on an ongoing project with Miguel Abreu and Rui Loj
 a Fernandes.\n
LOCATION:https://researchseminars.org/talk/Geolis/132/
END:VEVENT
END:VCALENDAR
