BEGIN:VCALENDAR
VERSION:2.0
PRODID:researchseminars.org
CALSCALE:GREGORIAN
X-WR-CALNAME:researchseminars.org
BEGIN:VEVENT
SUMMARY:Rui Loja Fernandes (University of Illinois at Urbana-Champaign)
DTSTART:20200512T160000Z
DTEND:20200512T170000Z
DTSTAMP:20260423T022625Z
UID:Geolis/1
DESCRIPTION:Title: <a href="https://researchseminars.org/talk/Geolis/1/">N
 on-commutative integrable systems and their singularities</a>\nby Rui Loja
  Fernandes (University of Illinois at Urbana-Champaign) as part of Geometr
 ia em Lisboa (IST)\n\n\nAbstract\nThe theory of singularities of non-commu
 tative integrable systems (a.k.a isotropic fibrations)\, in contrast with 
 the well-known theory for the commutative case (a.k.a. Lagrangian fibratio
 ns)\, is nonexistent. In this talk I will describe a few first steps towar
 d such a theory.\n
LOCATION:https://researchseminars.org/talk/Geolis/1/
END:VEVENT
END:VCALENDAR
