BEGIN:VCALENDAR
VERSION:2.0
PRODID:researchseminars.org
CALSCALE:GREGORIAN
X-WR-CALNAME:researchseminars.org
BEGIN:VEVENT
SUMMARY:Francesco Pediconi (Università di Firenze)
DTSTART:20210114T133000Z
DTEND:20210114T143000Z
DTSTAMP:20260423T024507Z
UID:GeoSem/12
DESCRIPTION:Title: <a href="https://researchseminars.org/talk/GeoSem/12/">
 Hermitian curvature flow on locally homogeneous complex surfaces</a>\nby F
 rancesco Pediconi (Università di Firenze) as part of Geometry Seminar - U
 niversity of Florence\n\n\nAbstract\nThe Hermitian curvature flow ("HCF" s
 hortly) is a strictly\nparabolic flow of Hermitian metrics\, introduced by
  Streets and Tian\,\nwhich evolves an initial Hermitian metric in the dire
 ction of its\nsecond Chern-Ricci curvature tensor with some first-order te
 rms in the\ntorsion. In this talk\, we study the long-time behavior of loc
 ally\nhomogeneous non-Kähler solutions to the HCF on compact complex\nsu
 rfaces and\, after a suitable normalization\, we compute the\nGromov-Hausd
 orff limit of those which are immortal. This is a joint\nwork with Mattia 
 Pujia.\n\nSeminario PRIN2017 "Real and Complex Manifolds: Topology\, Geome
 try and Holomorphic Dynamics"\n
LOCATION:https://researchseminars.org/talk/GeoSem/12/
END:VEVENT
END:VCALENDAR
