BEGIN:VCALENDAR
VERSION:2.0
PRODID:researchseminars.org
CALSCALE:GREGORIAN
X-WR-CALNAME:researchseminars.org
BEGIN:VEVENT
SUMMARY:Martin Taylor
DTSTART:20221118T133000Z
DTEND:20221118T143000Z
DTSTAMP:20260423T041219Z
UID:GandT/64
DESCRIPTION:Title: <a href="https://researchseminars.org/talk/GandT/64/">T
 he nonlinear stability of the Schwarzschild family of black holes</a>\nby 
 Martin Taylor as part of The London geometry and topology seminar\n\nAbstr
 act: TBA\n
LOCATION:https://researchseminars.org/talk/GandT/64/
END:VEVENT
END:VCALENDAR
