BEGIN:VCALENDAR
VERSION:2.0
PRODID:researchseminars.org
CALSCALE:GREGORIAN
X-WR-CALNAME:researchseminars.org
BEGIN:VEVENT
SUMMARY:Michael McQuillan
DTSTART:20220311T133000Z
DTEND:20220311T143000Z
DTSTAMP:20260423T040152Z
UID:GandT/49
DESCRIPTION:Title: <a href="https://researchseminars.org/talk/GandT/49/">T
 hurston Vanishing</a>\nby Michael McQuillan as part of The London geometry
  and topology seminar\n\nAbstract: TBA\n
LOCATION:https://researchseminars.org/talk/GandT/49/
END:VEVENT
END:VCALENDAR
