BEGIN:VCALENDAR
VERSION:2.0
PRODID:researchseminars.org
CALSCALE:GREGORIAN
X-WR-CALNAME:researchseminars.org
BEGIN:VEVENT
SUMMARY:Sergej Monavari
DTSTART:20210528T123000Z
DTEND:20210528T133000Z
DTSTAMP:20260423T040812Z
UID:GandT/28
DESCRIPTION:Title: <a href="https://researchseminars.org/talk/GandT/28/">D
 ouble nested Hilbert schemes and stable pair invariants</a>\nby Sergej Mon
 avari as part of The London geometry and topology seminar\n\nAbstract: TBA
 \n
LOCATION:https://researchseminars.org/talk/GandT/28/
END:VEVENT
END:VCALENDAR
