BEGIN:VCALENDAR
VERSION:2.0
PRODID:researchseminars.org
CALSCALE:GREGORIAN
X-WR-CALNAME:researchseminars.org
BEGIN:VEVENT
SUMMARY:Joseph Waldron (MSU)
DTSTART:20210226T133000Z
DTEND:20210226T143000Z
DTSTAMP:20260423T035925Z
UID:GandT/21
DESCRIPTION:Title: <a href="https://researchseminars.org/talk/GandT/21/">M
 inimal model program for threefolds of mixed characteristic.</a>\nby Josep
 h Waldron (MSU) as part of The London geometry and topology seminar\n\nAbs
 tract: TBA\n
LOCATION:https://researchseminars.org/talk/GandT/21/
END:VEVENT
END:VCALENDAR
