BEGIN:VCALENDAR
VERSION:2.0
PRODID:researchseminars.org
CALSCALE:GREGORIAN
X-WR-CALNAME:researchseminars.org
BEGIN:VEVENT
SUMMARY:Tye Lidman (NC State University)
DTSTART:20200508T123000Z
DTEND:20200508T133000Z
DTSTAMP:20260423T040009Z
UID:GandT/2
DESCRIPTION:Title: <a href="https://researchseminars.org/talk/GandT/2/">Co
 nway spheres and Dehn surgery.</a>\nby Tye Lidman (NC State University) as
  part of The London geometry and topology seminar\n\nAbstract: TBA\n
LOCATION:https://researchseminars.org/talk/GandT/2/
END:VEVENT
END:VCALENDAR
