BEGIN:VCALENDAR
VERSION:2.0
PRODID:researchseminars.org
CALSCALE:GREGORIAN
X-WR-CALNAME:researchseminars.org
BEGIN:VEVENT
SUMMARY:Boris L Tsygan
DTSTART:20201127T133000Z
DTEND:20201127T143000Z
DTSTAMP:20260423T040709Z
UID:GandT/13
DESCRIPTION:Title: <a href="https://researchseminars.org/talk/GandT/13/">N
 otes on noncommutative forms and Hochschild chains</a>\nby Boris L Tsygan 
 as part of The London geometry and topology seminar\n\nAbstract: TBA\n
LOCATION:https://researchseminars.org/talk/GandT/13/
END:VEVENT
END:VCALENDAR
