BEGIN:VCALENDAR
VERSION:2.0
PRODID:researchseminars.org
CALSCALE:GREGORIAN
X-WR-CALNAME:researchseminars.org
BEGIN:VEVENT
SUMMARY:Anthea Monod
DTSTART:20201120T133000Z
DTEND:20201120T143000Z
DTSTAMP:20260423T022837Z
UID:GandT/12
DESCRIPTION:Title: <a href="https://researchseminars.org/talk/GandT/12/">T
 ropical Geometry of Phylogenetic Tree Spaces.</a>\nby Anthea Monod as part
  of The London geometry and topology seminar\n\nAbstract: TBA\n
LOCATION:https://researchseminars.org/talk/GandT/12/
END:VEVENT
END:VCALENDAR
