BEGIN:VCALENDAR
VERSION:2.0
PRODID:researchseminars.org
CALSCALE:GREGORIAN
X-WR-CALNAME:researchseminars.org
BEGIN:VEVENT
SUMMARY:Florian Naef
DTSTART:20201106T133000Z
DTEND:20201106T143000Z
DTSTAMP:20260423T022837Z
UID:GandT/10
DESCRIPTION:Title: <a href="https://researchseminars.org/talk/GandT/10/">T
 he string coproduct</a>\nby Florian Naef as part of The London geometry an
 d topology seminar\n\nAbstract: TBA\n
LOCATION:https://researchseminars.org/talk/GandT/10/
END:VEVENT
END:VCALENDAR
