BEGIN:VCALENDAR
VERSION:2.0
PRODID:researchseminars.org
CALSCALE:GREGORIAN
X-WR-CALNAME:researchseminars.org
BEGIN:VEVENT
SUMMARY:Baris Coskunuzer (UT Dallas)
DTSTART:20200519T153000Z
DTEND:20200519T160000Z
DTSTAMP:20260423T003248Z
UID:GaTO/8
DESCRIPTION:Title: <a href="https://researchseminars.org/talk/GaTO/8/">Min
 imal surfaces in hyperbolic three-manifolds</a>\nby Baris Coskunuzer (UT D
 allas) as part of Geometry and topology online\n\n\nAbstract\nThe existenc
 e of minimal surfaces in three-manifolds is a classical problem in both ge
 ometric analysis and geometric topology. In the past years\, this question
  has been settled for closed\, and also for finite volume\, riemannian thr
 ee-manifolds. In this talk\, we will prove the existence of smoothly embed
 ded\, closed\, minimal surfaces in any infinite volume hyperbolic three-ma
 nifold\, barring a few special cases.\n
LOCATION:https://researchseminars.org/talk/GaTO/8/
END:VEVENT
END:VCALENDAR
