BEGIN:VCALENDAR
VERSION:2.0
PRODID:researchseminars.org
CALSCALE:GREGORIAN
X-WR-CALNAME:researchseminars.org
BEGIN:VEVENT
SUMMARY:Chenxi Wu (Rutgers)
DTSTART:20201105T150000Z
DTEND:20201105T153000Z
DTSTAMP:20260423T021101Z
UID:GaTO/35
DESCRIPTION:Title: <a href="https://researchseminars.org/talk/GaTO/35/">Bo
 unds on asymptotic translation length on free factor and free splitting co
 mplexes</a>\nby Chenxi Wu (Rutgers) as part of Geometry and topology onlin
 e\n\n\nAbstract\n<p>\n        The free factor and free splitting complexes
 \n        are analogies for the curve complex on surfaces. We found some\n
         upper bound on the asymptotic translation length on these\n       
  complexes when the train track maps have homotopic mapping\n        tori\
 , analogous to an upper bound we found earlier in the\n        setting of 
 curve complexes.\n      </p>\n      <p>\n        This is joint work with H
 yungryul Baik and Dongryul Kim.\n      </p>\n
LOCATION:https://researchseminars.org/talk/GaTO/35/
END:VEVENT
END:VCALENDAR
