BEGIN:VCALENDAR
VERSION:2.0
PRODID:researchseminars.org
CALSCALE:GREGORIAN
X-WR-CALNAME:researchseminars.org
BEGIN:VEVENT
SUMMARY:Michael Landry (WUSTL)
DTSTART:20200721T150000Z
DTEND:20200721T153000Z
DTSTAMP:20260423T021000Z
UID:GaTO/19
DESCRIPTION:Title: <a href="https://researchseminars.org/talk/GaTO/19/">Fa
 ces of the Thurston norm ball up to isotopy</a>\nby Michael Landry (WUSTL)
  as part of Geometry and topology online\n\n\nAbstract\n<p> Let \\(M\\) be
  a three-manifold with\n        nondegenerate Thurston norm \\(x\\) on its
  second homology.\n        There is a partial dictionary between the <i>co
 mbinatorics</i>\n        of the polyhedral unit ball of \\(x\\) and\n     
    the <i>topological</i> features of \\(M\\).  This dictionary is\n      
   quite incomplete\, but its existing entries are tantalizing.\n      </p>
 \n      <p>\n        Currently\, most of the entries of this dictionary co
 ncern\n        fibered faces of the unit ball.  Thurston proved that these
 \n        organize all fibrations of \\(M\\) over the circle.  Fried and\n
         Mosher tell us more: for each fibered face \\(F\\) there is a\n   
      (canonical) pseudo-Anosov flow whose Euler class computes the\n      
   norm \\(x\\) in the cone over \\(F\\).  Furthermore\, the flow\n        
 "sees" certain least-complexity surfaces. Further work of\n        Mosher 
 shows that\, under certain conditions\, pseudo-Anosov\n        flows can n
 aturally specify nonfibered faces of the unit ball.\n      </p>\n      <p>
 \n        After giving some of this background I will discuss results\n   
      from my recent preprint (see link).  I\n        show that Agol's veer
 ing triangulations can be used to\n        determine faces of Thurston nor
 m balls\, to compute the\n        Thurston norm over those faces\, and to 
 collate all isotopy\n        classes of least-complexity surfaces over tho
 se faces.  This\n        analysis includes nonfibered faces.\n      </p>\n
 \nNo password is required.\n
LOCATION:https://researchseminars.org/talk/GaTO/19/
END:VEVENT
END:VCALENDAR
