BEGIN:VCALENDAR
VERSION:2.0
PRODID:researchseminars.org
CALSCALE:GREGORIAN
X-WR-CALNAME:researchseminars.org
BEGIN:VEVENT
SUMMARY:Anna Romanov (Sydney)
DTSTART:20200625T200000Z
DTEND:20200625T210000Z
DTSTAMP:20260424T133602Z
UID:GRT-2020/24
DESCRIPTION:Title: <a href="https://researchseminars.org/talk/GRT-2020/24/
 ">A categorification of the Lusztig-Vogan module</a>\nby Anna Romanov (Syd
 ney) as part of Geometric Representation Theory conference\n\n\nAbstract\n
 Admissible representations of real reductive Lie groups are a key player i
 n the world of unitary representation theory. The characters of irreducibl
 e admissible representations were described by Lustig-Vogan in the 80’s 
 in terms of a geometrically-defined module over the associated Hecke algeb
 ra. In this talk\, I’ll describe a categorification of this module using
  Soergel bimodules\, with a focus on examples. This is work in progress.\n
LOCATION:https://researchseminars.org/talk/GRT-2020/24/
END:VEVENT
END:VCALENDAR
