BEGIN:VCALENDAR
VERSION:2.0
PRODID:researchseminars.org
CALSCALE:GREGORIAN
X-WR-CALNAME:researchseminars.org
BEGIN:VEVENT
SUMMARY:Davesh Maulik (MIT)
DTSTART:20221013T185000Z
DTEND:20221013T195000Z
DTSTAMP:20260423T041503Z
UID:GPRTatNU/61
DESCRIPTION:Title: <a href="https://researchseminars.org/talk/GPRTatNU/61/
 ">P=W conjecture for GL_n</a>\nby Davesh Maulik (MIT) as part of Geometry\
 , Physics\, and Representation Theory Seminar\n\n\nAbstract\nThe P=W conje
 cture\, first proposed by de Cataldo-Hausel-Migliorini in 2010\, gives a l
 ink between the topology of the moduli space of Higgs bundles on a curve a
 nd the Hodge theory of the corresponding character variety\, using non-abe
 lian Hodge theory.  In this talk\, I will explain this circle of ideas and
  discuss a recent proof of the conjecture for GL_n (joint with Junliang Sh
 en).\n
LOCATION:https://researchseminars.org/talk/GPRTatNU/61/
END:VEVENT
END:VCALENDAR
