BEGIN:VCALENDAR
VERSION:2.0
PRODID:researchseminars.org
CALSCALE:GREGORIAN
X-WR-CALNAME:researchseminars.org
BEGIN:VEVENT
SUMMARY:Charlotte Kirchhoff-Lukat (MIT)
DTSTART:20220331T185000Z
DTEND:20220331T195000Z
DTSTAMP:20260423T010005Z
UID:GPRTatNU/53
DESCRIPTION:Title: <a href="https://researchseminars.org/talk/GPRTatNU/53/
 ">Lagrangian intersection Floer cohomology for log symplectic surfaces</a>
 \nby Charlotte Kirchhoff-Lukat (MIT) as part of Geometry\, Physics\, and R
 epresentation Theory Seminar\n\n\nAbstract\nI will begin by giving an intr
 oduction to a special and widely studied class of Poisson manifolds: log s
 ymplectic manifolds. While these have degeneracies\, they are sufficiently
  close to being symplectic that many properties and techniques from symple
 ctic geometry extend. The main result I will present is my recent generali
 zation of Lagrangian intersection Floer cohomology to log symplectic surfa
 ces.\n
LOCATION:https://researchseminars.org/talk/GPRTatNU/53/
END:VEVENT
END:VCALENDAR
