BEGIN:VCALENDAR
VERSION:2.0
PRODID:researchseminars.org
CALSCALE:GREGORIAN
X-WR-CALNAME:researchseminars.org
BEGIN:VEVENT
SUMMARY:Giordano Cotti (GFMUL\, Lisbon)
DTSTART:20210216T100000Z
DTEND:20210216T120000Z
DTSTAMP:20260423T010636Z
UID:GPL/7
DESCRIPTION:Title: <a href="https://researchseminars.org/talk/GPL/7/">Frob
 enius manifolds\, irregular singularities\, and isomonodromy deformations\
 , Lecture III</a>\nby Giordano Cotti (GFMUL\, Lisbon) as part of Geometry 
 and Physics @ Lisbon\n\n\nAbstract\nLecture III - Analytic theory of Frobe
 nius manifolds\, Part I\n\nThe aim of the course is to give a self-contain
 ed introduction to the analytic theory of Frobenius manifolds\, ordinary d
 ifferential equations with rational coefficients in complex domains\, and 
 their isomonodromic deformations. Applications to enumerative geometry wil
 l also be discussed. In the final part of the mini-course\, more recent re
 sults in this research area will be presented.\n\nThe course will consist 
 of 5 lectures\, which will be shown live on YouTube\, at the url shown bel
 ow (where the lectures will stay available for a later view).\n\nThe publi
 c has the possibility to ask questions to the speaker through the live-cha
 t\, that will be read by a moderator.\n\nFor more information\, including 
 the syllabus\, the abstract of each lecture and the recommended literature
 \, visit: https://irregular.rd.ciencias.ulisboa.pt/frobenius-manifolds-irr
 egular-singularities-and-isomonodromy-deformations/\n\nThe course is a par
 t of the FCT Research Project "Irregular connections on algebraic curves a
 nd quantum field theory" (PTDC/MAT-PUR/30234/2017) \nhttps://irregular.rd.
 ciencias.ulisboa.pt\n\nGroup of Mathematical Physics of Lisbon University\
 n
LOCATION:https://researchseminars.org/talk/GPL/7/
END:VEVENT
END:VCALENDAR
