BEGIN:VCALENDAR
VERSION:2.0
PRODID:researchseminars.org
CALSCALE:GREGORIAN
X-WR-CALNAME:researchseminars.org
BEGIN:VEVENT
SUMMARY:Azizeh Nozad (IPM\, Iran)
DTSTART:20230622T100000Z
DTEND:20230622T110000Z
DTSTAMP:20260423T010753Z
UID:GPL/35
DESCRIPTION:Title: <a href="https://researchseminars.org/talk/GPL/35/">Ser
 re polynomials of character varieties of free groups</a>\nby Azizeh Nozad 
 (IPM\, Iran) as part of Geometry and Physics @ Lisbon\n\nLecture held in 6
 .2.33 (Seminar Room\, Math\, FCUL).\nAbstract: TBA\n
LOCATION:https://researchseminars.org/talk/GPL/35/
END:VEVENT
END:VCALENDAR
