BEGIN:VCALENDAR
VERSION:2.0
PRODID:researchseminars.org
CALSCALE:GREGORIAN
X-WR-CALNAME:researchseminars.org
BEGIN:VEVENT
SUMMARY:Xavier Blot (GFM\, Universidade de Lisboa)
DTSTART:20230328T100000Z
DTEND:20230328T110000Z
DTSTAMP:20260423T010748Z
UID:GPL/29
DESCRIPTION:Title: <a href="https://researchseminars.org/talk/GPL/29/">The
  quantum Witten-Kontsevich series</a>\nby Xavier Blot (GFM\, Universidade 
 de Lisboa) as part of Geometry and Physics @ Lisbon\n\nLecture held in 6.2
 .33 (Seminar Room\, Math\, FCUL).\nAbstract: TBA\n
LOCATION:https://researchseminars.org/talk/GPL/29/
END:VEVENT
END:VCALENDAR
