BEGIN:VCALENDAR
VERSION:2.0
PRODID:researchseminars.org
CALSCALE:GREGORIAN
X-WR-CALNAME:researchseminars.org
BEGIN:VEVENT
SUMMARY:Nikolay Nikolov (University of Oxford)
DTSTART:20210624T150000Z
DTEND:20210624T160000Z
DTSTAMP:20260423T053045Z
UID:GOThIC/36
DESCRIPTION:Title: <a href="https://researchseminars.org/talk/GOThIC/36/">
 On profinite groups with positive rank gradient</a>\nby Nikolay Nikolov (U
 niversity of Oxford) as part of GOThIC - Ischia Online Group Theory Confer
 ence\n\n\nAbstract\nIn this talk I will introduce rank gradient of groups 
 and discuss open questions about groups with positive rank gradient. In th
 e second part I will focus on the profinite situation and sketch a proof t
 hat a profinite group $G$ with positive rank gradient does not satisfy a g
 roup law.\n
LOCATION:https://researchseminars.org/talk/GOThIC/36/
END:VEVENT
END:VCALENDAR
