BEGIN:VCALENDAR
VERSION:2.0
PRODID:researchseminars.org
CALSCALE:GREGORIAN
X-WR-CALNAME:researchseminars.org
BEGIN:VEVENT
SUMMARY:Annaliese Keiser (University of Michigan)
DTSTART:20210526T190000Z
DTEND:20210526T200000Z
DTSTAMP:20260423T024516Z
UID:GOSS2021/1
DESCRIPTION:Title: <a href="https://researchseminars.org/talk/GOSS2021/1/"
 >An Introduction to Configuration Spaces and Braid Groups</a>\nby Annalies
 e Keiser (University of Michigan) as part of Graduate Online Seminar Serie
 s (GOSS)\n\nLecture held in TBA.\n\nAbstract\nThis is an expository talk e
 xploring configuration spaces and braid groups. I will give definitions an
 d examples of configuration spaces and braid groups\, explore the connecti
 on between the two\, and\, time permitting\, state properties of each. I c
 onsider these ideas from the perspective of algebraic topology and combina
 torial group theory\, although these objects appear and have applications 
 in many other areas of mathematics.\n
LOCATION:https://researchseminars.org/talk/GOSS2021/1/
END:VEVENT
END:VCALENDAR
