BEGIN:VCALENDAR
VERSION:2.0
PRODID:researchseminars.org
CALSCALE:GREGORIAN
X-WR-CALNAME:researchseminars.org
BEGIN:VEVENT
SUMMARY:Chao Li
DTSTART:20220204T151500Z
DTEND:20220204T161500Z
DTSTAMP:20260423T003236Z
UID:GNOSC/4
DESCRIPTION:Title: <a href="https://researchseminars.org/talk/GNOSC/4/">Sc
 alar curvature\, convergence and the prism inequality</a>\nby Chao Li as p
 art of Not only scalar curvature\n\nAbstract: TBA\n
LOCATION:https://researchseminars.org/talk/GNOSC/4/
END:VEVENT
END:VCALENDAR
