BEGIN:VCALENDAR
VERSION:2.0
PRODID:researchseminars.org
CALSCALE:GREGORIAN
X-WR-CALNAME:researchseminars.org
BEGIN:VEVENT
SUMMARY:Misha Gromov
DTSTART:20220121T140000Z
DTEND:20220121T144500Z
DTSTAMP:20260423T021103Z
UID:GNOSC/1
DESCRIPTION:Title: <a href="https://researchseminars.org/talk/GNOSC/1/">In
 vitation to scalar curvature</a>\nby Misha Gromov as part of Not only scal
 ar curvature\n\nAbstract: TBA\n
LOCATION:https://researchseminars.org/talk/GNOSC/1/
END:VEVENT
END:VCALENDAR
