BEGIN:VCALENDAR
VERSION:2.0
PRODID:researchseminars.org
CALSCALE:GREGORIAN
X-WR-CALNAME:researchseminars.org
BEGIN:VEVENT
SUMMARY:Edray Goins (Pomona College)
DTSTART:20201117T200000Z
DTEND:20201117T210000Z
DTSTAMP:20260423T021114Z
UID:GLU/3
DESCRIPTION:Title: <a href="https://researchseminars.org/talk/GLU/3/">An I
 ntroduction to Dessins d’Enfants</a>\nby Edray Goins (Pomona College) as
  part of Geometry Labs United Seminar\n\nAbstract: TBA\n
LOCATION:https://researchseminars.org/talk/GLU/3/
END:VEVENT
END:VCALENDAR
