BEGIN:VCALENDAR
VERSION:2.0
PRODID:researchseminars.org
CALSCALE:GREGORIAN
X-WR-CALNAME:researchseminars.org
BEGIN:VEVENT
SUMMARY:Stefano Rossi (Sapienza Università di Roma)
DTSTART:20210604T161500Z
DTEND:20210604T164500Z
DTSTAMP:20260423T035911Z
UID:GIMs/16
DESCRIPTION:Title: <a href="https://researchseminars.org/talk/GIMs/16/">La
 ndau damping in Vlasov-type equations: an exposition of some mathematical 
 results</a>\nby Stefano Rossi (Sapienza Università di Roma) as part of Gr
 aduate Inter-University Math seminar\n\nAbstract: TBA\n
LOCATION:https://researchseminars.org/talk/GIMs/16/
END:VEVENT
END:VCALENDAR
