BEGIN:VCALENDAR
VERSION:2.0
PRODID:researchseminars.org
CALSCALE:GREGORIAN
X-WR-CALNAME:researchseminars.org
BEGIN:VEVENT
SUMMARY:Jacopo Zanchettin (SISSA)
DTSTART:20210226T163000Z
DTEND:20210226T170000Z
DTSTAMP:20260423T035827Z
UID:GIMs/1
DESCRIPTION:Title: <a href="https://researchseminars.org/talk/GIMs/1/">Gal
 ois objects of Hopf algebras</a>\nby Jacopo Zanchettin (SISSA) as part of 
 Graduate Inter-University Math seminar\n\nAbstract: TBA\n
LOCATION:https://researchseminars.org/talk/GIMs/1/
END:VEVENT
END:VCALENDAR
