BEGIN:VCALENDAR
VERSION:2.0
PRODID:researchseminars.org
CALSCALE:GREGORIAN
X-WR-CALNAME:researchseminars.org
BEGIN:VEVENT
SUMMARY:Koji Fujiwara (Kyoto)
DTSTART:20200911T020000Z
DTEND:20200911T030000Z
DTSTAMP:20260423T021449Z
UID:GGTea/1
DESCRIPTION:Title: <a href="https://researchseminars.org/talk/GGTea/1/">Th
 e rates of growth in a hyperbolic group</a>\nby Koji Fujiwara (Kyoto) as p
 art of Geometric group theory in East Asia\n\n\nAbstract\nWe study the cou
 ntable set of rates of growth of a hyperbolic group with respect to all it
 s finite generating sets. We prove that the set is well-ordered\, in parti
 cular\, the infimum is achieved. We use techniques from limit groups. This
  is a joint work with Zlil Sela.\n
LOCATION:https://researchseminars.org/talk/GGTea/1/
END:VEVENT
END:VCALENDAR
