BEGIN:VCALENDAR
VERSION:2.0
PRODID:researchseminars.org
CALSCALE:GREGORIAN
X-WR-CALNAME:researchseminars.org
BEGIN:VEVENT
SUMMARY:Claus Ernst (Western Kentucky University - USA)
DTSTART:20240913T160000Z
DTEND:20240913T170000Z
DTSTAMP:20260423T022925Z
UID:GEOTOP-A/84
DESCRIPTION:Title: <a href="https://researchseminars.org/talk/GEOTOP-A/84/
 ">On the braid index of knots and links</a>\nby Claus Ernst (Western Kentu
 cky University - USA) as part of GEOTOP-A seminar\n\n\nAbstract\nWe review
  a well-known method to compute the braid index. Using this method\, we ca
 n give a compute the braid index of all alternating Montesinos knots and l
 inks and all non alternating pretzel knots and links. The method uses just
  information that can be read of a minimal diagram of the knot or link.\n
LOCATION:https://researchseminars.org/talk/GEOTOP-A/84/
END:VEVENT
END:VCALENDAR
