BEGIN:VCALENDAR
VERSION:2.0
PRODID:researchseminars.org
CALSCALE:GREGORIAN
X-WR-CALNAME:researchseminars.org
BEGIN:VEVENT
SUMMARY:Paweł Dłotko (Dioscuri Center - Poland)
DTSTART:20211112T160000Z
DTEND:20211112T170000Z
DTSTAMP:20260423T022830Z
UID:GEOTOP-A/7
DESCRIPTION:Title: <a href="https://researchseminars.org/talk/GEOTOP-A/7/"
 >Data\, their relations and shape - topology in action</a>\nby Paweł Dło
 tko (Dioscuri Center - Poland) as part of GEOTOP-A seminar\n\n\nAbstract\n
 Topological data analysis is a rapidly developing area of mathematics with
  applications in data science. In addition to revealing the shape of data 
 we develop tools for visualizing high dimensional scalar and vector valued
  functions. As an example\, we explore relations between various knot inva
 riants\, and extrapolate how presented tools may help to compare various\,
  high-dimensional descriptors of fixed datasets. In particular\, we show h
 ow these ideas can be used to compare different mapper-type graphs of the 
 same dataset. This is a joint work with Davide Gurnari\, Anna Jurek\, Simo
 n Rudkin and Radmila Sazdanovic.\n
LOCATION:https://researchseminars.org/talk/GEOTOP-A/7/
END:VEVENT
END:VCALENDAR
