BEGIN:VCALENDAR
VERSION:2.0
PRODID:researchseminars.org
CALSCALE:GREGORIAN
X-WR-CALNAME:researchseminars.org
BEGIN:VEVENT
SUMMARY:Albert Fathi (Georgia Tech)
DTSTART:20221228T121000Z
DTEND:20221228T133000Z
DTSTAMP:20260423T022715Z
UID:GDS/72
DESCRIPTION:Title: <a href="https://researchseminars.org/talk/GDS/72/">Smo
 oth Lyapunov functions on closed subsets and isolating neighbourhoods</a>\
 nby Albert Fathi (Georgia Tech) as part of Geometry and Dynamics seminar\n
 \n\nAbstract\nWe will discuss unified and simplified proofs of some previo
 usly known \ntheorems relating dynamics and Lyapunov functions. In particu
 lar\, we \nwill give a proof of the existence of isolating blocks for isol
 ated \ninvariant sets.\n
LOCATION:https://researchseminars.org/talk/GDS/72/
END:VEVENT
END:VCALENDAR
