BEGIN:VCALENDAR
VERSION:2.0
PRODID:researchseminars.org
CALSCALE:GREGORIAN
X-WR-CALNAME:researchseminars.org
BEGIN:VEVENT
SUMMARY:Marcelo S. Atallah (University of Montreal)
DTSTART:20221123T151000Z
DTEND:20221123T163000Z
DTSTAMP:20260423T022716Z
UID:GDS/67
DESCRIPTION:Title: <a href="https://researchseminars.org/talk/GDS/67/">Fix
 ed points of small Hamiltonian diffeomorphisms and the Flux conjectures</a
 >\nby Marcelo S. Atallah (University of Montreal) as part of Geometry and 
 Dynamics seminar\n\n\nAbstract\nInspired by the work of Lalonde-McDuff-Pol
 terovich\, we describe how the C^0 \nand C^1 flux conjectures relate to ne
 w instances of the strong Arnol’d \nconjecture and make new progress on 
 the C^0 flux conjecture. This is joint \nwork in progress with Egor Sheluk
 hin.\n
LOCATION:https://researchseminars.org/talk/GDS/67/
END:VEVENT
END:VCALENDAR
