BEGIN:VCALENDAR
VERSION:2.0
PRODID:researchseminars.org
CALSCALE:GREGORIAN
X-WR-CALNAME:researchseminars.org
BEGIN:VEVENT
SUMMARY:Hyunmoon Kim (Seoul National University)
DTSTART:20220511T111000Z
DTEND:20220511T123000Z
DTSTAMP:20260423T004822Z
UID:GDS/57
DESCRIPTION:Title: <a href="https://researchseminars.org/talk/GDS/57/">Com
 plex Lagrangian subspaces and representations of the canonical commutation
  relations</a>\nby Hyunmoon Kim (Seoul National University) as part of Geo
 metry and Dynamics seminar\n\n\nAbstract\nComplex Lagrangian subspaces wer
 e introduced as polarizations on symplectic \nmanifolds in geometric quant
 ization. We will look at their role in the linear \ngeometry more carefull
 y. A transverse pair of complex Lagrangian subspaces \nparametrizes repres
 entations of the canonical commutation relations and this \nbrings togethe
 r some different perspectives from which the representations \nwere studie
 d. I will suggest how this result can be interpreted using concepts \nfrom
  geometry and very little concepts from physics.\n
LOCATION:https://researchseminars.org/talk/GDS/57/
END:VEVENT
END:VCALENDAR
