BEGIN:VCALENDAR
VERSION:2.0
PRODID:researchseminars.org
CALSCALE:GREGORIAN
X-WR-CALNAME:researchseminars.org
BEGIN:VEVENT
SUMMARY:Louis Ioos (Max Planck Institute)
DTSTART:20211208T121000Z
DTEND:20211208T133000Z
DTSTAMP:20260423T022713Z
UID:GDS/44
DESCRIPTION:Title: <a href="https://researchseminars.org/talk/GDS/44/">Qua
 ntization in stages and canonical metrics</a>\nby Louis Ioos (Max Planck I
 nstitute) as part of Geometry and Dynamics seminar\n\n\nAbstract\nIn this 
 talk\, I will introduce the notion of quantization in stages\, which \nlie
 s at the basis of fundamental physical set-ups such as the Stern-Gerlach \
 nexperiment\, and explain how it can be realized over compact symplectic p
 hase \nspaces via the use of Berezin-Toeplitz quantization of vector bundl
 es. In \nparticular\, I will introduce and show how to compute the associa
 ted quantum \nnoise. I will then describe an application to Hermite-Einste
 in metrics on \nstable vector bundles over a projective manifold\, and if 
 time permits\, I will \nshow how a refinement of these results in the case
  of the trivial line bundle \ncan be applied to Kähler metrics of constan
 t scalar curvature.\n
LOCATION:https://researchseminars.org/talk/GDS/44/
END:VEVENT
END:VCALENDAR
