BEGIN:VCALENDAR
VERSION:2.0
PRODID:researchseminars.org
CALSCALE:GREGORIAN
X-WR-CALNAME:researchseminars.org
BEGIN:VEVENT
SUMMARY:Daniel Rosen (Ruhr-Universität Bochum)
DTSTART:20210407T111000Z
DTEND:20210407T123000Z
DTSTAMP:20260423T005733Z
UID:GDS/28
DESCRIPTION:Title: <a href="https://researchseminars.org/talk/GDS/28/">Ran
 dom inscribed polytopes in Non-Euclidean Geometries</a>\nby Daniel Rosen (
 Ruhr-Universität Bochum) as part of Geometry and Dynamics seminar\n\n\nAb
 stract\nRandom polytopes have a long history\, going back to Sylvester's f
 amous \nfour-point problem. Since then their study has become a mainstream
  topic \nin convex and stochastic geometry\, with close connection to poly
 topal \napproximation problems\, among other things. In this talk we will 
 consider \nrandom polytopes in constant curvature geometries\, and show th
 at their \nvolume satisfies a central limit theorem. The proof uses Stein'
 s method \nfor normal approximation\, and extends to general projective Fi
 nsler metrics.\n
LOCATION:https://researchseminars.org/talk/GDS/28/
END:VEVENT
END:VCALENDAR
