BEGIN:VCALENDAR
VERSION:2.0
PRODID:researchseminars.org
CALSCALE:GREGORIAN
X-WR-CALNAME:researchseminars.org
BEGIN:VEVENT
SUMMARY:Sergey Tsarev\, Folkert Müller-Hoissen\, Dmitry Millionschikov\, 
 Boris Konopelchenko
DTSTART:20221214T140000Z
DTEND:20221214T180000Z
DTSTAMP:20260423T023042Z
UID:GDEq/78
DESCRIPTION:Title: <a href="https://researchseminars.org/talk/GDEq/78/">On
 e day workshop in honor of Maxim Pavlov's 60th birthday</a>\nby Sergey Tsa
 rev\, Folkert Müller-Hoissen\, Dmitry Millionschikov\, Boris Konopelchenk
 o as part of Geometry of differential equations seminar\n\nLecture held in
  room 303 of the Independent University of Moscow.\n\nAbstract\n</br>\n</b
 r>\n<strong>Speaker</strong>: Sergey Tsarev (Krasnoyarsk)\n\n<strong>Title
 </strong>: Hydrodynamic type systems and beyond: a long way towards integr
 ability with Maxim Pavlov\n\n<strong>Speaker</strong>: Folkert Müller-Hoi
 ssen (Göttingen)\n\n<strong>Title</strong>: A relative of the NLS equatio
 n revisited\n\n<strong>Speaker</strong>: Dmitry Millionschikov (Moscow)\n\
 n<strong>Title</strong>: Growth of Lie algebras and integrability\n\n<stro
 ng>Speaker</strong>: Boris Konopelchenko\n\n<strong>Title</strong>: Multi-
 dimensional MAS-Pavlov-Jordan chain and its reduct\nions\n\nThe abstracts\
 , slides\, and videos can be found on the page https://gdeq.org/Pavlov60\n
LOCATION:https://researchseminars.org/talk/GDEq/78/
END:VEVENT
END:VCALENDAR
