BEGIN:VCALENDAR
VERSION:2.0
PRODID:researchseminars.org
CALSCALE:GREGORIAN
X-WR-CALNAME:researchseminars.org
BEGIN:VEVENT
SUMMARY:Eugene Ferapontov (Loughborough University)
DTSTART:20211201T162000Z
DTEND:20211201T180000Z
DTSTAMP:20260423T010249Z
UID:GDEq/46
DESCRIPTION:Title: <a href="https://researchseminars.org/talk/GDEq/46/">Se
 cond order integrable Lagrangians and WDVV equations</a>\nby Eugene Ferapo
 ntov (Loughborough University) as part of Geometry of differential equatio
 ns seminar\n\n\nAbstract\nI will discuss integrability of 2D and 3D Euler-
 Lagrange equations for second-order Lagrangians. A link to WDVV equations 
 will be established. Based on joint work with Maxim Pavlov and Lingling Xu
 e.\n
LOCATION:https://researchseminars.org/talk/GDEq/46/
END:VEVENT
END:VCALENDAR
