BEGIN:VCALENDAR
VERSION:2.0
PRODID:researchseminars.org
CALSCALE:GREGORIAN
X-WR-CALNAME:researchseminars.org
BEGIN:VEVENT
SUMMARY:Valentin Lychagin
DTSTART:20200504T120000Z
DTEND:20200504T140000Z
DTSTAMP:20260423T022143Z
UID:GDEq/2
DESCRIPTION:Title: <a href="https://researchseminars.org/talk/GDEq/2/">On 
 structure of linear differential operators of the first order</a>\nby Vale
 ntin Lychagin as part of Geometry of differential equations seminar\n\n\nA
 bstract\nWe'll discuss the equivalence problem (local as well as global) f
 or linear differential operators of the first order\, acting in vector bun
 dles.\n\nThe slides will be in English and if preferred by anyone in the a
 udience the talk itself can be switched from Russian to English.\n
LOCATION:https://researchseminars.org/talk/GDEq/2/
END:VEVENT
END:VCALENDAR
