BEGIN:VCALENDAR
VERSION:2.0
PRODID:researchseminars.org
CALSCALE:GREGORIAN
X-WR-CALNAME:researchseminars.org
BEGIN:VEVENT
SUMMARY:Lashi Bandara (Deakin University)
DTSTART:20250822T100000Z
DTEND:20250822T110000Z
DTSTAMP:20260423T035910Z
UID:GARF/3
DESCRIPTION:Title: <a href="https://researchseminars.org/talk/GARF/3/">Hod
 ge Theory in Nonsmooth Settings III</a>\nby Lashi Bandara (Deakin Universi
 ty) as part of Geometric Analysis and Related Fields\n\nAbstract: TBA\n
LOCATION:https://researchseminars.org/talk/GARF/3/
END:VEVENT
END:VCALENDAR
