BEGIN:VCALENDAR
VERSION:2.0
PRODID:researchseminars.org
CALSCALE:GREGORIAN
X-WR-CALNAME:researchseminars.org
BEGIN:VEVENT
SUMMARY:Xianfeng	Wang
DTSTART:20221107T150000Z
DTEND:20221107T170000Z
DTSTAMP:20260423T052623Z
UID:GAPPF/79
DESCRIPTION:Title: <a href="https://researchseminars.org/talk/GAPPF/79/">S
 elf-similar solutions to fully nonlinear curvature flows by high powers of
  curvature</a>\nby Xianfeng	Wang as part of Geometric Analysis: Past\, Pre
 sent and Future\n\nAbstract: TBA\n
LOCATION:https://researchseminars.org/talk/GAPPF/79/
END:VEVENT
END:VCALENDAR
