BEGIN:VCALENDAR
VERSION:2.0
PRODID:researchseminars.org
CALSCALE:GREGORIAN
X-WR-CALNAME:researchseminars.org
BEGIN:VEVENT
SUMMARY:Diptaishik Choudhury
DTSTART:20221020T150000Z
DTEND:20221020T170000Z
DTSTAMP:20260423T052643Z
UID:GAPPF/56
DESCRIPTION:Title: <a href="https://researchseminars.org/talk/GAPPF/56/">C
 onstant mean curvature foliations of quasi-Fuchsian manifolds near the Fuc
 hsian locus and Hamiltonian paths in cotangent of Teichmüller space</a>\n
 by Diptaishik Choudhury as part of Geometric Analysis: Past\, Present and 
 Future\n\nAbstract: TBA\n
LOCATION:https://researchseminars.org/talk/GAPPF/56/
END:VEVENT
END:VCALENDAR
