BEGIN:VCALENDAR
VERSION:2.0
PRODID:researchseminars.org
CALSCALE:GREGORIAN
X-WR-CALNAME:researchseminars.org
BEGIN:VEVENT
SUMMARY:Aaron Tyrrell
DTSTART:20221019T030000Z
DTEND:20221019T050000Z
DTSTAMP:20260423T035753Z
UID:GAPPF/53
DESCRIPTION:Title: <a href="https://researchseminars.org/talk/GAPPF/53/">R
 enormalized Area for Minimal Hypersurfaces of 5-Dimensional Poincaré-Eins
 tein Spaces</a>\nby Aaron Tyrrell as part of Geometric Analysis: Past\, Pr
 esent and Future\n\nAbstract: TBA\n
LOCATION:https://researchseminars.org/talk/GAPPF/53/
END:VEVENT
END:VCALENDAR
